BEGIN:VCALENDAR
VERSION:2.0
PRODID:-// eRoom plugin //NONSGML v1.0//EN
CALSCALE:GREGORIAN
BEGIN:VEVENT
UID:eRoom-1777113408
SUMMARY:SAM ENNON&#8217;s Zoom Meeting
LOCATION:Zoom
DESCRIPTION:SAM ENNON&#8217\;s Zoom Meeting is inviting you to a scheduled 
 Zoom meeting.\n\nJoin Zoom Meeting\nhttps://us02web.zoom.us/j/3659946049?p
 wd=RVl3d2c3UjcwdCtXQlBaSHhyZklmZz09\n\nMeeting ID: 83097403563\nPasscode: 
 trinity39\n
URL;VALUE=URI:https://us02web.zoom.us/j/3659946049?pwd=RVl3d2c3UjcwdCtXQlBaSHhyZklmZz09
DTSTART:20200803T213000Z
DTEND:20200803T223000Z
DTSTAMP:20260425T103648Z
BEGIN:VALARM
ACTION:DISPLAY
DESCRIPTION:Reminder
TRIGGER;RELATED=START:-PT15M
END:VALARM
END:VEVENT
END:VCALENDAR