BEGIN:VCALENDAR
VERSION:2.0
PRODID:-// eRoom plugin //NONSGML v1.0//EN
CALSCALE:GREGORIAN
BEGIN:VEVENT
UID:eRoom-1776947205
SUMMARY:SAM ENNON&#8217;s Zoom Meeting
LOCATION:Zoom
DESCRIPTION:SAM ENNON&#8217\;s Zoom Meeting is inviting you to a scheduled 
 Zoom meeting.\n\nJoin Zoom Meeting\nhttps://us02web.zoom.us/j/89764926585?
 pwd=am91VWFnNWtCMCtvSlZzeUNheWpUdz09\n\nMeeting ID: 89764926585\nPasscode:
  706719\n
URL;VALUE=URI:https://us02web.zoom.us/j/89764926585?pwd=am91VWFnNWtCMCtvSlZzeUNheWpUdz09
DTSTART:20210208T223000Z
DTEND:20210208T233000Z
DTSTAMP:20260423T122645Z
BEGIN:VALARM
ACTION:DISPLAY
DESCRIPTION:Reminder
TRIGGER;RELATED=START:-PT15M
END:VALARM
END:VEVENT
END:VCALENDAR