BEGIN:VCALENDAR
VERSION:2.0
PRODID:-// eRoom plugin //NONSGML v1.0//EN
CALSCALE:GREGORIAN
BEGIN:VEVENT
UID:eRoom-1776945515
SUMMARY:SAM ENNON&#8217;s Zoom Meeting
LOCATION:Zoom
DESCRIPTION:SAM ENNON&#8217\;s Zoom Meeting is inviting you to a scheduled 
 Zoom meeting.\n\nJoin Zoom Meeting\nhttps://us02web.zoom.us/j/89190964320?
 pwd=aitmYjA0ZHhMTTNMYTRDQllLc2xpQT09\n\nMeeting ID: 89190964320\nPasscode:
  459884\n
URL;VALUE=URI:https://us02web.zoom.us/j/89190964320?pwd=aitmYjA0ZHhMTTNMYTRDQllLc2xpQT09
DTSTART:20210209T060000Z
DTEND:20210209T070000Z
DTSTAMP:20260423T115835Z
BEGIN:VALARM
ACTION:DISPLAY
DESCRIPTION:Reminder
TRIGGER;RELATED=START:-PT15M
END:VALARM
END:VEVENT
END:VCALENDAR